BEGIN:VCALENDAR
VERSION:2.0
PRODID:-//eventon.com NONSGML v1.0//EN
CALSCALE:GREGORIAN
METHOD:PUBLISH
BEGIN:VEVENT
UID:69e579c955656
DTSTAMP:20260420T005641Z
DTSTART:20260525T080000Z
DTEND:20260525T150000Z
LOCATION:
SUMMARY:Pinkster Ride-Out (Pokerrun)
DESCRIPTION:Hallo motorvrienden\,  De pinkster ride-out wordt zowaar een po
 kerrun!!!! Er gaat in\,  door Wim\,  samengestelde groepjes worden gereden.
  De groepjes starten vanaf 10.30 uur om de 5 minuten. Je krijgt een lijst m
 ee met 6 adressen. De bedoeling is dat je deze langs rijd in de volgorde di
 e op de[..]\nhttps://hog-northeastholland.nl/events/pinkster-ride-out-2/
URL:https://hog-northeastholland.nl/events/pinkster-ride-out-2/
END:VEVENT
END:VCALENDAR