BEGIN:VCALENDAR
VERSION:2.0
PRODID:-//eventon.com NONSGML v1.0//EN
CALSCALE:GREGORIAN
METHOD:PUBLISH
BEGIN:VEVENT
UID:69e57a2e8c4b4
DTSTAMP:20260420T005822Z
DTSTART:20260427T080000Z
DTEND:20260427T150000Z
LOCATION:
SUMMARY:Koningsdag Ride-Out
DESCRIPTION:Hallo motorvrienden\,  We vertrekken van de Mc Donald’s in He
 ngelo Zuid. Via het Hof van Twente rijden we richting de IJssel waarna we u
 iteindelijk in Doesburg aankomen voor de lunch. Deze gebruiken we in Restau
 rant De Kade. Na de lunch rijden we via de grensstreek naar Ahaus- Alstatte
  waar we[..]\nhttps://hog-northeastholland.nl/events/koningsdag-ride-out/
URL:https://hog-northeastholland.nl/events/koningsdag-ride-out/
END:VEVENT
END:VCALENDAR